BEGIN:VCALENDAR
PRODID:-//eluceo/ical//2.0/EN
VERSION:2.0
CALSCALE:GREGORIAN
BEGIN:VEVENT
UID:event-586
DTSTAMP:20260419T170021Z
SUMMARY:Consulting & Audit Tour Munich
DESCRIPTION:SCOPE Maastricht is thrilled to announce the Consulting &amp\; 
 Audit Tour 2024 \, where 26 motivated students will have the chance to v
 isit and experience the world of Consulting and Auditing in Munich.  The 
 Consulting &amp\; Audit Tour 2024 will include company visits with inte
 ractive workshops\, exciting presentations\, and the possibility to enjoy 
 the professional and social aspects of life in Munich. This unique experi
 ence will allow you to merge the benefits of visiting a beautiful city wit
 h the opportunity to widen your horizons. With other students from Maastri
 cht University\, you will have the chance to network with skilled professi
 onals and create new meaningful connections with your peers\, former Maast
 richt students\, and experts in Consulting\, Audit and Advisory! We will 
 take care of the transportation to Munich\, accommodation\, breakfast\, c
 ompany visits\, and other activities! To apply\, simply prepare your CV.
  Registration opens on the (20.03.2024) and closes at noon/12pm the (17.
 04.2024). In case you have any questions please send an e-mail to info@sc
 ope-maastricht.nl. Please see that the participating companies will get to
  choose the participants of this trip. We are looking forward to receiving
  your applications!   When and where is the Trip? Munich\, Germany from 1
 5.05 to 18.05.2024 Which companies are we visiting? Accenture  Deloitte 
  PwC  more to be announced later All companies will focus the visits on C
 onsulting and Audit in Munich.  What will be the main activities? Company
  visits alumni event Dinner Social Activity  How can you apply? Upload yo
 ur CV Participation fee €: 75€ for SCOPE members (active and passive m
 embers) Make sure to become a passive member as soon as possible 150€ fo
 r NON-SCOPE members
DTSTART:20240514T220000Z
DTEND:20240517T220000Z
END:VEVENT
BEGIN:VTIMEZONE
TZID:UTC
BEGIN:STANDARD
DTSTART:20240514T220000
TZNAME:UTC
TZOFFSETTO:+0000
TZOFFSETFROM:+0000
END:STANDARD
END:VTIMEZONE
END:VCALENDAR
