BEGIN:VCALENDAR
PRODID:-//eluceo/ical//2.0/EN
VERSION:2.0
CALSCALE:GREGORIAN
BEGIN:VEVENT
UID:event-768
DTSTAMP:20260423T103930Z
SUMMARY:Business & Consulting Tour Munich 2026
DESCRIPTION:SCOPE Maastricht is thrilled to announce the Business &amp\; Co
 nsulting Tour 2026 \, where 26 motivated students will have the chance 
 to visit and experience the world of business in Munich.  The Consulting 
 &amp\; Management Tour 2026 will include company visits with interactiv
 e workshops\, exciting presentations\, and the possibility to enjoy the pr
 ofessional and social aspects of life in Munich. This unique experience w
 ill allow you to merge the benefits of visiting a beautiful city with the 
 opportunity to widen your horizons. With other students from Maastricht Un
 iversity\, you will have the chance to network with skilled professionals 
 and create new meaningful connections with your peers\, former Maastricht 
 students\, and experts in Consulting\, Audit\, Advisory and other fields!
  We will take care of the transportation to Munich\, accommodation\, brea
 kfast\, company visits\, and other activities! To apply\, simply prepare 
 your CV. Registration opens on the (01.03.2026) and closes at midnight t
 he (21.04.2026). In case you have any questions please send an e-mail to c
 areer@scope-maastricht.nl. Please note that the participating companies wi
 ll get to choose the participants of this trip. We are looking forward to 
 receiving your applications!   When and where is the Trip? Munich\, Germa
 ny from 10.05.2026 to 14.05.2026 What will be the main activities? Company
  visits Deloitte Google AbinBev Ommax Louis Vuitton Social Activity  How 
 can you apply? Upload your CV Participation fee €: 149€ for SCOPE memb
 ers (active and passive members) Make sure to become a passive member as s
 oon as possible 299€ for NON-SCOPE members Please note that the universi
 ty’s rule of a maximum of three absences per course also applies when jo
 ining this trip. Unfortunately\, the chances of receiving an exception are
  small\, despite repeated requests from SCOPE to the university. In pract
 ice\, students who join SCOPE trips usually do not experience major issues
  with attendance. However\, participation in the trip will count toward yo
 ur total number of allowed absences. This means you may have fewer remaini
 ng absences available for other commitments during the course period. Tuto
 rs may vary in how strictly they record absences\, so we advise you to inf
 orm them in advance about your participation in the trip.
DTSTART:20260509T220000Z
DTEND:20260513T220000Z
LOCATION:Munich
END:VEVENT
BEGIN:VTIMEZONE
TZID:UTC
BEGIN:STANDARD
DTSTART:20260509T220000
TZNAME:UTC
TZOFFSETTO:+0000
TZOFFSETFROM:+0000
END:STANDARD
END:VTIMEZONE
END:VCALENDAR
