BEGIN:VCALENDAR
PRODID:-//eluceo/ical//2.0/EN
VERSION:2.0
CALSCALE:GREGORIAN
BEGIN:VEVENT
UID:event-780
DTSTAMP:20260420T024839Z
SUMMARY:International Financial Orientation 2026: Hong Kong
DESCRIPTION:Earn ECTS (and replace your skills course) with this exciting t
 rip! Every year\, the IFO Trip offers 26 second-year International Busines
 s students the opportunity to visit a global financial capital\, and this
  year’s destination is Hong Kong! During the trip\, you will visit about
  8 finance-related companies and gain insights into their operations via i
 nteractive workshops and exciting presentations. Additionally\, you will h
 ave time to expand your horizon by exploring Hong Kong’s culture and dyn
 amic city life. But it’s not all business! The trip also includes exciti
 ng social activities\, allowing you to immerse yourself in the local cultu
 re and create unforgettable memories with your fellow students.  Everythi
 ng—from transportation from Maastricht to Hong Kong\, accommodation\, br
 eakfasts\, to company visits and one social activity —is taken care of\,
  so you can fully focus on making the most of this incredible experience!
  Please note that SCOPE does not take care of your visa. 📅 Trip dates:
  from June 25th to July 2nd 📍 Location: Hong Kong SAR\, China 💰 Part
 icipation fee: €899 (includes flights\, accommodation\, and other socia
 l activities)  📌 Who can apply? 2nd year Bachelor IB students interes
 ted in financial markets 📝 Application requirements: upload CV and a mo
 tivational letter (max 400 words)\, both in PDF format 📆 Applications 
 open from the 25th of February to the 6th of April  We can’t wait to se
 e your applications! 🌟💙
DTSTART:20260624T220000Z
DTEND:20260707T220000Z
END:VEVENT
BEGIN:VTIMEZONE
TZID:UTC
BEGIN:STANDARD
DTSTART:20260624T220000
TZNAME:UTC
TZOFFSETTO:+0000
TZOFFSETFROM:+0000
END:STANDARD
END:VTIMEZONE
END:VCALENDAR
