BEGIN:VCALENDAR
PRODID:-//eluceo/ical//2.0/EN
VERSION:2.0
CALSCALE:GREGORIAN
BEGIN:VEVENT
UID:event-784
DTSTAMP:20260420T012312Z
SUMMARY:International Economic Orientation 2026: Ho Chi Minh City
DESCRIPTION:Earn ECTS (and replace your Skills course) with this exciting t
 rip! Every year\, the IEO Trip offers 26 second-year Bachelor EBE and IB 
 students the opportunity to visit a fast-growing international economic hu
 b\, and this year’s destination is Ho Chi Minh City! During the trip\, y
 ou will visit around five high-impact\, internationally oriented companies
  and gain valuable insights into their strategies\, innovation\, and growt
 h through interactive workshops and engaging presentations. Beyond the pro
 fessional program\, you will broaden your global perspective by discoverin
 g Vietnam’s dynamic business environment\, vibrant street life\, and ric
 h cultural heritage. The trip also features exciting social activities\, g
 iving you the chance to truly experience local traditions\, cuisine\, and 
 rich cultural heritage\, while creating unforgettable memories with your f
 ellow students. Everything\, from transportation from Maastricht to Ho Chi
  Minh City\, accommodation\, company visits\, and social activities\, is t
 aken care of\, so you can fully focus on making the most of this unique ex
 perience. Please note that SCOPE does not arrange visas. 📅 Trip dates: 
 June 22nd – July 1st 📍 Location: Ho Chi Minh City\, Vietnam 💰 Part
 icipation fee: €899 (including flights\, accommodation\, social activiti
 es\, and company visits) 📌 Who can apply? 2nd-year EBEIB students 📝
  Application requirements: Upload your CV and a motivational letter (max. 
 400 words)\, both in PDF format 📆 Application period: February 26th –
  April 6th We can’t wait to receive your applications! 🌟💙
DTSTART:20260622T060000Z
DTEND:20260630T220000Z
END:VEVENT
BEGIN:VTIMEZONE
TZID:UTC
BEGIN:STANDARD
DTSTART:20260622T060000
TZNAME:UTC
TZOFFSETTO:+0000
TZOFFSETFROM:+0000
END:STANDARD
END:VTIMEZONE
END:VCALENDAR
